BEGIN:VCALENDAR
VERSION:2.0
PRODID:-//eventon.com NONSGML v1.0//EN
CALSCALE:GREGORIAN
METHOD:PUBLISH
BEGIN:VEVENT
UID:69e4e007d4675
DTSTAMP:20260419T100039
DTSTART:20260913T140000Z
DTEND:20260913T170000Z
TZID:America/Chicago
LOCATION:
SUMMARY:Rebecca Speaking at Byron Methodist Church | Byron\,  MI
DESCRIPTION: Rebecca McDonald\,  founder &#038; president of Women At Risk\,  International (WAR\,  Int’l)\,  is speaking at Byron Methodist Church in Byron\,  MI. WHEN: September 13\,  2026 SPEAKING TIMES: 9:15am and 11am = Rebecca speaking at the worship services to present on the work and mission of WAR\,  Int&#8217;l as well as[..]\nhttps://warinternational.org/upcoming-events/rebecca-speaking-at-byron-methodist-church-byron-mi/
URL:https://warinternational.org/upcoming-events/rebecca-speaking-at-byron-methodist-church-byron-mi/
END:VEVENT
END:VCALENDAR