BEGIN:VCALENDAR
VERSION:2.0
PRODID:-//eventon.com NONSGML v1.0//EN
CALSCALE:GREGORIAN
METHOD:PUBLISH
BEGIN:VEVENT
UID:69ea36b32936e
DTSTAMP:20260423T111147
DTSTART:20251001T133000Z
DTEND:20251001T150000Z
TZID:America/Detroit
LOCATION:WAR Chest Boutique 2790 44th St SW
SUMMARY:Coffee with a Cop
DESCRIPTION: Join us on October 1st from 9:30 am-11:00 am for our annual Coffee with a Cop event! Enjoy a time of community\,  coffee\,  and donuts where you can learn what our local cops are doing to fight trafficking\,  and hear their advice to help you do the same. As we[..]\nhttps://warinternational.org/upcoming-events/coffee-with-a-cop-2025/
URL:https://warinternational.org/upcoming-events/coffee-with-a-cop-2025/
END:VEVENT
END:VCALENDAR