BEGIN:VCALENDAR
VERSION:2.0
PRODID:-//eventon.com NONSGML v1.0//EN
CALSCALE:GREGORIAN
METHOD:PUBLISH
BEGIN:VEVENT
UID:69e4fb3b6f821
DTSTAMP:20260419T115643
DTSTART:20241126T003000Z
DTEND:20241126T020000Z
TZID:America/Detroit
LOCATION:
SUMMARY:Light Up Your World Zoom - November 2024
DESCRIPTION: Join us Monday\,  November 25\,  2024 at 7:30 pm (ET) for our monthly Zoom Meet-Up. Rebecca McDonald\,  founder and president of Women At Risk\,  International\,  will be sharing about our Circle Tour 2026 trip to Thailand. Learn more here www.warinternational.org/circle-tour! Free for all to attend. Here is the link below[..]\nhttps://warinternational.org/upcoming-events/light-up-your-world-zoom-november-2024/
URL:https://warinternational.org/upcoming-events/light-up-your-world-zoom-november-2024/
END:VEVENT
END:VCALENDAR