BEGIN:VCALENDAR
VERSION:2.0
PRODID:-//eventon.com NONSGML v1.0//EN
CALSCALE:GREGORIAN
METHOD:PUBLISH
BEGIN:VEVENT
UID:69ecf9480d8eb
DTSTAMP:20260425T132632
DTSTART:20230211T160000Z
DTEND:20230211T190000Z
TZID:America/Detroit
LOCATION:WAR Chest Boutique- Grandville 2790 44th St. SW
SUMMARY:Galentine's Extravaganza
DESCRIPTION: Join the WAR Chest Boutique for our Galentine’s Extravaganza on Saturday\,  February 11\,  2023\,  from 11 am to 2 pm. Gather your girlfriends for some fun and set aside some time for yourself to take a deep breath\,  share some laughs with your girlfriends\,  and simply enjoy hanging out with[..]\nhttps://warinternational.org/upcoming-events/galentines-extravaganza/
URL:https://warinternational.org/upcoming-events/galentines-extravaganza/
END:VEVENT
END:VCALENDAR