BEGIN:VCALENDAR
VERSION:2.0
PRODID:-//eventon.com NONSGML v1.0//EN
CALSCALE:GREGORIAN
METHOD:PUBLISH
BEGIN:VEVENT
UID:69ebc19dd7b2f
DTSTAMP:20260424T151645
DTSTART:20221226
DTEND:20221228
TZID:America/Detroit
LOCATION:
SUMMARY:*SPECIAL FEATURE* Light Up Your World Zoom
DESCRIPTION: A special year-end greeting for our Light Up Your World Zoom Family! Lend your ear as Becky McDonald\,  founder &#038; president of WAR\,  Int&#8217;l\,  conveys a warm greeting and provides an overview of the year while also sharing how 2023 will be kicking off as she travels 7 countries to[..]\nhttps://warinternational.org/upcoming-events/light-up-your-world-zoom-dec-2022/
URL:https://warinternational.org/upcoming-events/light-up-your-world-zoom-dec-2022/
END:VEVENT
END:VCALENDAR