BEGIN:VCALENDAR
VERSION:2.0
PRODID:-//eventon.com NONSGML v1.0//EN
CALSCALE:GREGORIAN
METHOD:PUBLISH
BEGIN:VEVENT
UID:69e51a5562a6d
DTSTAMP:20260419T140925
DTSTART:20200409T220000Z
DTEND:20200410T020000Z
TZID:America/Detroit
LOCATION:City Flats Hotel 800 Military Street
SUMMARY:Port Huron Area Landlord Association Meeting
DESCRIPTION: Rebecca McDonald\,  founder and president of Women At Risk\,  International (WAR\,  Int’l)\,  is speaking at an event hosted by the Port Huron Area Landlord Association on Thursday\,  April 9\,  2020\,  at 7 pm. She will be addressing housing specialists such as property managers\,  landlords\,  real estate agents\,  and state-assisted housing[..]\nhttps://warinternational.org/upcoming-events/becky-at-the-port-huron-area-landlord-association-meeting/
URL:https://warinternational.org/upcoming-events/becky-at-the-port-huron-area-landlord-association-meeting/
END:VEVENT
END:VCALENDAR